BEGIN:VCALENDAR
VERSION:2.0
PRODID:-//CHIREC International School - ECPv6.15.20//NONSGML v1.0//EN
CALSCALE:GREGORIAN
METHOD:PUBLISH
X-WR-CALNAME:CHIREC International School
X-ORIGINAL-URL:https://www.chirec.ac.in
X-WR-CALDESC:Events for CHIREC International School
REFRESH-INTERVAL;VALUE=DURATION:PT1H
X-Robots-Tag:noindex
X-PUBLISHED-TTL:PT1H
BEGIN:VTIMEZONE
TZID:Asia/Kolkata
BEGIN:STANDARD
TZOFFSETFROM:+0530
TZOFFSETTO:+0530
TZNAME:IST
DTSTART:20230101T000000
END:STANDARD
END:VTIMEZONE
BEGIN:VEVENT
DTSTART;TZID=Asia/Kolkata:20241130T000000
DTEND;TZID=Asia/Kolkata:20241213T000000
DTSTAMP:20260420T190631
CREATED:20240509T064951Z
LAST-MODIFIED:20240509T064951Z
UID:4456-1732924800-1734048000@www.chirec.ac.in
SUMMARY:PT3 for Grades VI - IX Mid Term II for Grade XI Preboard I for Grades X & XII
DESCRIPTION:
URL:https://www.chirec.ac.in/event/pt3-for-grades-vi-ix-mid-term-ii-for-grade-xi-preboard-i-for-grades-x-xii/
CATEGORIES:CBSE
END:VEVENT
BEGIN:VEVENT
DTSTART;TZID=Asia/Kolkata:20241104T000000
DTEND;TZID=Asia/Kolkata:20241112T000000
DTSTAMP:20260420T190631
CREATED:20240509T064936Z
LAST-MODIFIED:20240509T064936Z
UID:4451-1730678400-1731369600@www.chirec.ac.in
SUMMARY:PT III For Grade X Midterm II for Grade XII
DESCRIPTION:
URL:https://www.chirec.ac.in/event/pt-iii-for-grade-x-midterm-ii-for-grade-xii/
CATEGORIES:CBSE
END:VEVENT
BEGIN:VEVENT
DTSTART;TZID=Asia/Kolkata:20241104T000000
DTEND;TZID=Asia/Kolkata:20241108T000000
DTSTAMP:20260420T190631
CREATED:20240509T064936Z
LAST-MODIFIED:20240509T064936Z
UID:4452-1730678400-1731024000@www.chirec.ac.in
SUMMARY:PBL (Grades VI - VIII)
DESCRIPTION:
URL:https://www.chirec.ac.in/event/pbl-grades-vi-viii/
CATEGORIES:CBSE
END:VEVENT
BEGIN:VEVENT
DTSTART;TZID=Asia/Kolkata:20241026T000000
DTEND;TZID=Asia/Kolkata:20241026T000000
DTSTAMP:20260420T190631
CREATED:20240509T064935Z
LAST-MODIFIED:20240509T064935Z
UID:4449-1729900800-1729900800@www.chirec.ac.in
SUMMARY:Secondary Concert / Sports Day
DESCRIPTION:
URL:https://www.chirec.ac.in/event/secondary-concert-sports-day/
CATEGORIES:CBSE
END:VEVENT
BEGIN:VEVENT
DTSTART;TZID=Asia/Kolkata:20241025T000000
DTEND;TZID=Asia/Kolkata:20241025T000000
DTSTAMP:20260420T190631
CREATED:20240509T064921Z
LAST-MODIFIED:20240509T064921Z
UID:4448-1729814400-1729814400@www.chirec.ac.in
SUMMARY:Moot Court
DESCRIPTION:
URL:https://www.chirec.ac.in/event/moot-court/
CATEGORIES:CBSE
END:VEVENT
BEGIN:VEVENT
DTSTART;TZID=Asia/Kolkata:20241024T000000
DTEND;TZID=Asia/Kolkata:20241025T000000
DTSTAMP:20260420T190631
CREATED:20240509T064921Z
LAST-MODIFIED:20240509T064921Z
UID:4447-1729728000-1729814400@www.chirec.ac.in
SUMMARY:Academic Fair (Grades III -IV)
DESCRIPTION:
URL:https://www.chirec.ac.in/event/academic-fair-grades-iii-iv/
CATEGORIES:CBSE
END:VEVENT
BEGIN:VEVENT
DTSTART;TZID=Asia/Kolkata:20240930T000000
DTEND;TZID=Asia/Kolkata:20240930T000000
DTSTAMP:20260420T190631
CREATED:20240509T064920Z
LAST-MODIFIED:20240509T064920Z
UID:4444-1727654400-1727654400@www.chirec.ac.in
SUMMARY:Global Be Well D
DESCRIPTION:
URL:https://www.chirec.ac.in/event/global-be-well-d/
CATEGORIES:CBSE
END:VEVENT
BEGIN:VEVENT
DTSTART;TZID=Asia/Kolkata:20240921T000000
DTEND;TZID=Asia/Kolkata:20240921T000000
DTSTAMP:20260420T190631
CREATED:20240509T064906Z
LAST-MODIFIED:20240509T064906Z
UID:4443-1726876800-1726876800@www.chirec.ac.in
SUMMARY:Primary Term I PTM
DESCRIPTION:
URL:https://www.chirec.ac.in/event/primary-term-i-ptm/
CATEGORIES:CBSE
END:VEVENT
BEGIN:VEVENT
DTSTART;TZID=Asia/Kolkata:20240913T000000
DTEND;TZID=Asia/Kolkata:20240913T000000
DTSTAMP:20260420T190631
CREATED:20240509T064905Z
LAST-MODIFIED:20240509T064905Z
UID:4051-1726185600-1726185600@www.chirec.ac.in
SUMMARY:PTM for Grades VI - XII
DESCRIPTION:
URL:https://www.chirec.ac.in/event/ptm-for-grades-vi-xii/
CATEGORIES:CBSE
END:VEVENT
BEGIN:VEVENT
DTSTART;TZID=Asia/Kolkata:20240910T000000
DTEND;TZID=Asia/Kolkata:20240912T000000
DTSTAMP:20260420T190631
CREATED:20240509T064851Z
LAST-MODIFIED:20240509T064851Z
UID:4050-1725926400-1726099200@www.chirec.ac.in
SUMMARY:Hackathon
DESCRIPTION:
URL:https://www.chirec.ac.in/event/hackathon/
CATEGORIES:CBSE
END:VEVENT
BEGIN:VEVENT
DTSTART;TZID=Asia/Kolkata:20240905T000000
DTEND;TZID=Asia/Kolkata:20240905T000000
DTSTAMP:20260420T190631
CREATED:20240509T064850Z
LAST-MODIFIED:20240509T064850Z
UID:4438-1725494400-1725494400@www.chirec.ac.in
SUMMARY:Teachers’ Day celebrations
DESCRIPTION:
URL:https://www.chirec.ac.in/event/teachers-day-celebrations/
CATEGORIES:CBSE
END:VEVENT
BEGIN:VEVENT
DTSTART;TZID=Asia/Kolkata:20240902T000000
DTEND;TZID=Asia/Kolkata:20240903T000000
DTSTAMP:20260420T190631
CREATED:20240509T064850Z
LAST-MODIFIED:20240509T064850Z
UID:4047-1725235200-1725321600@www.chirec.ac.in
SUMMARY:Collaborative Activity (Grades IV - V)
DESCRIPTION:
URL:https://www.chirec.ac.in/event/collaborative-activity-grades-iv-v/
CATEGORIES:CBSE
END:VEVENT
BEGIN:VEVENT
DTSTART;TZID=Asia/Kolkata:20240829T000000
DTEND;TZID=Asia/Kolkata:20240829T000000
DTSTAMP:20260420T190631
CREATED:20240509T064850Z
LAST-MODIFIED:20240509T064850Z
UID:4437-1724889600-1724889600@www.chirec.ac.in
SUMMARY:Collaborative Activity (Grades I - III)
DESCRIPTION:
URL:https://www.chirec.ac.in/event/collaborative-activity-grades-i-iii/
CATEGORIES:CBSE
END:VEVENT
BEGIN:VEVENT
DTSTART;TZID=Asia/Kolkata:20240826T000000
DTEND;TZID=Asia/Kolkata:20240826T000000
DTSTAMP:20260420T190631
CREATED:20240509T064836Z
LAST-MODIFIED:20240509T064836Z
UID:4045-1724630400-1724630400@www.chirec.ac.in
SUMMARY:Janmastami (Holiday)
DESCRIPTION:
URL:https://www.chirec.ac.in/event/janmastami-holiday/
CATEGORIES:Cambridge & IBDP,CBSE,Preschool
END:VEVENT
BEGIN:VEVENT
DTSTART;TZID=Asia/Kolkata:20240823T000000
DTEND;TZID=Asia/Kolkata:20240906T000000
DTSTAMP:20260420T190631
CREATED:20240509T064836Z
LAST-MODIFIED:20240509T064836Z
UID:4044-1724371200-1725580800@www.chirec.ac.in
SUMMARY:PT2 for Grades VI - X\,Term 1 Exam for Grades XI & XII
DESCRIPTION:
URL:https://www.chirec.ac.in/event/pt2-for-grades-vi-xterm-1-exam-for-grades-xi-xii/
CATEGORIES:CBSE
END:VEVENT
BEGIN:VEVENT
DTSTART;TZID=Asia/Kolkata:20240819T000000
DTEND;TZID=Asia/Kolkata:20240819T000000
DTSTAMP:20260420T190631
CREATED:20240520T061117Z
LAST-MODIFIED:20240520T061117Z
UID:4505-1724025600-1724025600@www.chirec.ac.in
SUMMARY:Raksha Bandhan* (Holiday)
DESCRIPTION:
URL:https://www.chirec.ac.in/event/raksha-bandhan-holiday-3/
CATEGORIES:Cambridge & IBDP,CBSE,Preschool
END:VEVENT
BEGIN:VEVENT
DTSTART;TZID=Asia/Kolkata:20240819T000000
DTEND;TZID=Asia/Kolkata:20240819T000000
DTSTAMP:20260420T190631
CREATED:20240509T064836Z
LAST-MODIFIED:20240509T064836Z
UID:4436-1724025600-1724025600@www.chirec.ac.in
SUMMARY:Raksha Bandhan (Holiday)
DESCRIPTION:
URL:https://www.chirec.ac.in/event/raksha-bandhan-holiday/
CATEGORIES:CBSE
END:VEVENT
BEGIN:VEVENT
DTSTART;TZID=Asia/Kolkata:20240816T000000
DTEND;TZID=Asia/Kolkata:20240817T000000
DTSTAMP:20260420T190631
CREATED:20240509T064835Z
LAST-MODIFIED:20240509T064835Z
UID:4435-1723766400-1723852800@www.chirec.ac.in
SUMMARY:PBL (Grade V)
DESCRIPTION:
URL:https://www.chirec.ac.in/event/pbl-grade-v/
CATEGORIES:CBSE
END:VEVENT
BEGIN:VEVENT
DTSTART;TZID=Asia/Kolkata:20240815T000000
DTEND;TZID=Asia/Kolkata:20240815T000000
DTSTAMP:20260420T190631
CREATED:20240509T064835Z
LAST-MODIFIED:20240509T064835Z
UID:4434-1723680000-1723680000@www.chirec.ac.in
SUMMARY:Independence Day
DESCRIPTION:
URL:https://www.chirec.ac.in/event/independence-day/
CATEGORIES:Cambridge & IBDP,CBSE,Preschool
END:VEVENT
BEGIN:VEVENT
DTSTART;TZID=Asia/Kolkata:20240808T000000
DTEND;TZID=Asia/Kolkata:20240809T000000
DTSTAMP:20260420T190631
CREATED:20240509T064821Z
LAST-MODIFIED:20240509T064821Z
UID:4040-1723075200-1723161600@www.chirec.ac.in
SUMMARY:CHIREC Fiesta
DESCRIPTION:
URL:https://www.chirec.ac.in/event/chirec-fiesta/
CATEGORIES:CBSE
END:VEVENT
BEGIN:VEVENT
DTSTART;VALUE=DATE:20240729
DTEND;VALUE=DATE:20240730
DTSTAMP:20260420T190631
CREATED:20240708T101350Z
LAST-MODIFIED:20240708T101350Z
UID:5168-1722211200-1722297599@www.chirec.ac.in
SUMMARY:Bonalu (Holiday)
DESCRIPTION:
URL:https://www.chirec.ac.in/event/bonalu-holiday-3/
CATEGORIES:Cambridge & IBDP,CBSE
END:VEVENT
BEGIN:VEVENT
DTSTART;TZID=Asia/Kolkata:20240726T080000
DTEND;TZID=Asia/Kolkata:20240728T170000
DTSTAMP:20260420T190631
CREATED:20240708T101234Z
LAST-MODIFIED:20240708T101234Z
UID:5165-1721980800-1722186000@www.chirec.ac.in
SUMMARY:MUN
DESCRIPTION:
URL:https://www.chirec.ac.in/event/mun-2024/
CATEGORIES:CBSE
END:VEVENT
BEGIN:VEVENT
DTSTART;TZID=Asia/Kolkata:20240720T000000
DTEND;TZID=Asia/Kolkata:20240720T000000
DTSTAMP:20260420T190631
CREATED:20240509T064820Z
LAST-MODIFIED:20240509T064820Z
UID:4433-1721433600-1721433600@www.chirec.ac.in
SUMMARY:Investiture Ceremony
DESCRIPTION:
URL:https://www.chirec.ac.in/event/investiture-ceremony/
CATEGORIES:Cambridge & IBDP,CBSE
END:VEVENT
BEGIN:VEVENT
DTSTART;VALUE=DATE:20240717
DTEND;VALUE=DATE:20240718
DTSTAMP:20260420T190631
CREATED:20240708T100218Z
LAST-MODIFIED:20240708T100218Z
UID:5163-1721174400-1721260799@www.chirec.ac.in
SUMMARY:Muharram* (Holiday)
DESCRIPTION:
URL:https://www.chirec.ac.in/event/muharram-holiday-3/
CATEGORIES:Cambridge & IBDP,CBSE
END:VEVENT
BEGIN:VEVENT
DTSTART;TZID=Asia/Kolkata:20240701T000000
DTEND;TZID=Asia/Kolkata:20240708T000000
DTSTAMP:20260420T190631
CREATED:20240509T064806Z
LAST-MODIFIED:20240509T064806Z
UID:4431-1719792000-1720396800@www.chirec.ac.in
SUMMARY:PT1 for Grades VI - X Midterm for Grades XI & XII
DESCRIPTION:
URL:https://www.chirec.ac.in/event/pt1-for-grades-vi-x-midterm-for-grades-xi-xii/
CATEGORIES:CBSE
END:VEVENT
BEGIN:VEVENT
DTSTART;TZID=Asia/Kolkata:20240619T080000
DTEND;TZID=Asia/Kolkata:20240619T170000
DTSTAMP:20260420T190631
CREATED:20240614T061256Z
LAST-MODIFIED:20240614T061256Z
UID:5072-1718784000-1718816400@www.chirec.ac.in
SUMMARY:School reopens for stages Nursery to PP2 and stages 1 to 5
DESCRIPTION:
URL:https://www.chirec.ac.in/event/school-reopens-for-stages-nursery-to-pp2-and-stages-1-to-5/
CATEGORIES:CBSE
END:VEVENT
BEGIN:VEVENT
DTSTART;TZID=Asia/Kolkata:20240617T080000
DTEND;TZID=Asia/Kolkata:20240617T170000
DTSTAMP:20260420T190631
CREATED:20240614T062207Z
LAST-MODIFIED:20240614T062207Z
UID:5076-1718611200-1718643600@www.chirec.ac.in
SUMMARY:Eid – uz – Zuha*
DESCRIPTION:
URL:https://www.chirec.ac.in/event/eid-uz-zuha-4/
CATEGORIES:CBSE
END:VEVENT
BEGIN:VEVENT
DTSTART;TZID=Asia/Kolkata:20240612T000000
DTEND;TZID=Asia/Kolkata:20240612T000000
DTSTAMP:20260420T190631
CREATED:20240509T064805Z
LAST-MODIFIED:20240509T064805Z
UID:4428-1718150400-1718150400@www.chirec.ac.in
SUMMARY:Reopening for Secondary Students (VI - XII)
DESCRIPTION:
URL:https://www.chirec.ac.in/event/reopening-for-secondary-students-vi-xii/
CATEGORIES:CBSE
END:VEVENT
BEGIN:VEVENT
DTSTART;TZID=Asia/Kolkata:20240519T000000
DTEND;TZID=Asia/Kolkata:20240519T000000
DTSTAMP:20260420T190631
CREATED:20240509T064806Z
LAST-MODIFIED:20240509T064806Z
UID:4430-1716076800-1716076800@www.chirec.ac.in
SUMMARY:Reopening for Pre-Primary and Primary Students (Nursery - V)
DESCRIPTION:
URL:https://www.chirec.ac.in/event/reopening-for-pre-primary-and-primarystudents-nursery-v/
CATEGORIES:CBSE
END:VEVENT
BEGIN:VEVENT
DTSTART;TZID=Asia/Kolkata:20240505T000000
DTEND;TZID=Asia/Kolkata:20240505T000000
DTSTAMP:20260420T190631
CREATED:20240509T064805Z
LAST-MODIFIED:20240509T064805Z
UID:4031-1714867200-1714867200@www.chirec.ac.in
SUMMARY:NEET *
DESCRIPTION:
URL:https://www.chirec.ac.in/event/neet/
CATEGORIES:CBSE
END:VEVENT
END:VCALENDAR