BEGIN:VCALENDAR
VERSION:2.0
PRODID:-//CHIREC International School - ECPv6.15.20//NONSGML v1.0//EN
CALSCALE:GREGORIAN
METHOD:PUBLISH
X-ORIGINAL-URL:https://www.chirec.ac.in
X-WR-CALDESC:Events for CHIREC International School
REFRESH-INTERVAL;VALUE=DURATION:PT1H
X-Robots-Tag:noindex
X-PUBLISHED-TTL:PT1H
BEGIN:VTIMEZONE
TZID:Asia/Kolkata
BEGIN:STANDARD
TZOFFSETFROM:+0530
TZOFFSETTO:+0530
TZNAME:IST
DTSTART:20230101T000000
END:STANDARD
END:VTIMEZONE
BEGIN:VEVENT
DTSTART;TZID=Asia/Kolkata:20240417T000000
DTEND;TZID=Asia/Kolkata:20240417T000000
DTSTAMP:20260422T151148
CREATED:20240509T064751Z
LAST-MODIFIED:20240509T064751Z
UID:4426-1713312000-1713312000@www.chirec.ac.in
SUMMARY:Summer Vacation - Grades VI - XII
DESCRIPTION:
URL:https://www.chirec.ac.in/event/summer-vacation-grades-vi-xii/
CATEGORIES:CBSE
END:VEVENT
BEGIN:VEVENT
DTSTART;TZID=Asia/Kolkata:20240416T000000
DTEND;TZID=Asia/Kolkata:20240416T000000
DTSTAMP:20260422T151148
CREATED:20240509T064751Z
LAST-MODIFIED:20240509T064751Z
UID:4028-1713225600-1713225600@www.chirec.ac.in
SUMMARY:LWD for students Grades VI - XII
DESCRIPTION:
URL:https://www.chirec.ac.in/event/lwd-for-students-grades-vi-xii/
CATEGORIES:CBSE
END:VEVENT
BEGIN:VEVENT
DTSTART;TZID=Asia/Kolkata:20240406T000000
DTEND;TZID=Asia/Kolkata:20240406T000000
DTSTAMP:20260422T151148
CREATED:20240509T064735Z
LAST-MODIFIED:20240509T064735Z
UID:4423-1712361600-1712361600@www.chirec.ac.in
SUMMARY:PTM for PP and Primary (Grades I - IV)
DESCRIPTION:
URL:https://www.chirec.ac.in/event/ptm-for-pp-and-primary-grades-i-iv/
CATEGORIES:CBSE
END:VEVENT
BEGIN:VEVENT
DTSTART;TZID=Asia/Kolkata:20240404T000000
DTEND;TZID=Asia/Kolkata:20240404T000000
DTSTAMP:20260422T151148
CREATED:20240509T064734Z
LAST-MODIFIED:20240509T064734Z
UID:4421-1712188800-1712188800@www.chirec.ac.in
SUMMARY:LWD for Students (Grades I - V)
DESCRIPTION:
URL:https://www.chirec.ac.in/event/lwd-for-students-grades-i-v/
CATEGORIES:CBSE
END:VEVENT
BEGIN:VEVENT
DTSTART;TZID=Asia/Kolkata:20240327T000000
DTEND;TZID=Asia/Kolkata:20240327T000000
DTSTAMP:20260422T151148
CREATED:20240509T064728Z
LAST-MODIFIED:20240509T064728Z
UID:4419-1711497600-1711497600@www.chirec.ac.in
SUMMARY:New Session starts - Grades VI-IX
DESCRIPTION:
URL:https://www.chirec.ac.in/event/new-session-starts-grades-vi-ix/
CATEGORIES:CBSE
END:VEVENT
BEGIN:VEVENT
DTSTART;TZID=Asia/Kolkata:20240323T000000
DTEND;TZID=Asia/Kolkata:20240323T000000
DTSTAMP:20260422T151148
CREATED:20240509T064728Z
LAST-MODIFIED:20240509T064728Z
UID:4417-1711152000-1711152000@www.chirec.ac.in
SUMMARY:PTM - Grades V-VIII
DESCRIPTION:
URL:https://www.chirec.ac.in/event/ptm-grades-v-viii/
CATEGORIES:CBSE
END:VEVENT
BEGIN:VEVENT
DTSTART;TZID=Asia/Kolkata:20240301T000000
DTEND;TZID=Asia/Kolkata:20240315T000000
DTSTAMP:20260422T151148
CREATED:20240509T064727Z
LAST-MODIFIED:20240509T064727Z
UID:4415-1709251200-1710460800@www.chirec.ac.in
SUMMARY:Term end Examination (Grades VI - VIII)
DESCRIPTION:
URL:https://www.chirec.ac.in/event/term-end-examination-grades-vi-viii/
CATEGORIES:CBSE
END:VEVENT
END:VCALENDAR